BEGIN:VCALENDAR
VERSION:2.0
PRODID:https://www.dietfurt.de/
X-PUBLISHED-TTL:P1D
BEGIN:VEVENT
UID:69e70861b80b1
DTSTART:20260924T150000Z
SEQUENCE:0
TRANSP:OPAQUE
DTEND:20260924T163000Z
URL:https://www.dietfurt.de/veranstaltungen/woechentliche_stadtfuehrung_fu-
 666599-12593593/
LOCATION:Innenstadt - Dietfurt
SUMMARY:Wöchentliche Stadtführung für Urlaubsgäste und Interessierte
DTSTAMP:20260421T071721Z
END:VEVENT
END:VCALENDAR