BEGIN:VCALENDAR
VERSION:2.0
PRODID:https://www.dietfurt.de/
X-PUBLISHED-TTL:P1D
BEGIN:VEVENT
UID:69e708bc67c53
DTSTART:20260917T150000Z
SEQUENCE:0
TRANSP:OPAQUE
DTEND:20260917T163000Z
URL:https://www.dietfurt.de/veranstaltungen/woechentliche_stadtfuehrung_fu-
 666599-12593591/
LOCATION:Innenstadt - Dietfurt
SUMMARY:Wöchentliche Stadtführung für Urlaubsgäste und Interessierte
DTSTAMP:20260421T071852Z
END:VEVENT
END:VCALENDAR