BEGIN:VCALENDAR
VERSION:2.0
PRODID:https://www.dietfurt.de/
X-PUBLISHED-TTL:P1D
BEGIN:VEVENT
UID:69eb8d16da039
DTSTART:20260723T150000Z
SEQUENCE:0
TRANSP:OPAQUE
DTEND:20260723T163000Z
URL:https://www.dietfurt.de/veranstaltungen/woechentliche_stadtfuehrung_fu-
 666599-12593575/
LOCATION:Innenstadt - Dietfurt
SUMMARY:Wöchentliche Stadtführung für Urlaubsgäste und Interessierte
DTSTAMP:20260424T173238Z
END:VEVENT
END:VCALENDAR