BEGIN:VCALENDAR
VERSION:2.0
PRODID:https://www.dietfurt.de/
X-PUBLISHED-TTL:P1D
BEGIN:VEVENT
UID:69e9f8d27e0fd
DTSTART:20260716T150000Z
SEQUENCE:0
TRANSP:OPAQUE
DTEND:20260716T163000Z
URL:https://www.dietfurt.de/veranstaltungen/woechentliche_stadtfuehrung_fu-
 666599-12593573
LOCATION:Innenstadt - Dietfurt
SUMMARY:Wöchentliche Stadtführung für Urlaubsgäste und Interessierte
DTSTAMP:20260423T124746Z
END:VEVENT
END:VCALENDAR