BEGIN:VCALENDAR
VERSION:2.0
PRODID:https://www.dietfurt.de/
X-PUBLISHED-TTL:P1D
BEGIN:VEVENT
UID:69eca4735a588
DTSTART:20260521T150000Z
SEQUENCE:0
TRANSP:OPAQUE
DTEND:20260521T163000Z
URL:https://www.dietfurt.de/veranstaltungen/woechentliche_stadtfuehrung_fu-
 666599-12593559
LOCATION:Innenstadt - Dietfurt
SUMMARY:Wöchentliche Stadtführung für Urlaubsgäste und Interessierte
DTSTAMP:20260425T132435Z
END:VEVENT
END:VCALENDAR