BEGIN:VCALENDAR
VERSION:2.0
PRODID:https://www.dietfurt.de/
X-PUBLISHED-TTL:P1D
BEGIN:VEVENT
UID:69e548bb0873f
DTSTART:20261205T180000Z
SEQUENCE:0
TRANSP:OPAQUE
DTEND:20261205T180000Z
URL:https://www.dietfurt.de/veranstaltungen/weihnachtsfeier_sportangler_di-
 666585/
LOCATION:Landgasthof \"Zum Wolfsberg\" - Dietfurt
SUMMARY:Weihnachtsfeier  Sportangler Dietfurt e.V.
DESCRIPTION:Weihnachtsfeier 2026
DTSTAMP:20260419T232723Z
END:VEVENT
END:VCALENDAR