BEGIN:VCALENDAR
VERSION:2.0
PRODID:https://www.dietfurt.de/
X-PUBLISHED-TTL:P1D
BEGIN:VEVENT
UID:69e6a1c24eaeb
DTSTART:20270105T180000Z
SEQUENCE:0
TRANSP:OPAQUE
DTEND:20270105T180000Z
URL:https://www.dietfurt.de/veranstaltungen/versteigerung_von_uns_fuer_kin-
 741775-12644741/
LOCATION:Landgasthof \"Zum Wolfsberg\" - Dietfurt
SUMMARY:Versteigerung Von Uns für Kinder - Dietfurt e.V
DTSTAMP:20260420T235930Z
END:VEVENT
END:VCALENDAR