BEGIN:VCALENDAR
VERSION:2.0
PRODID:https://www.dietfurt.de/
X-PUBLISHED-TTL:P1D
BEGIN:VEVENT
UID:69e51b5c28194
DTSTART:20260918T160000Z
SEQUENCE:0
TRANSP:OPAQUE
DTEND:20260918T160000Z
URL:https://www.dietfurt.de/veranstaltungen/themenfuehrung_in_vino_veritas-
 659097/
LOCATION:- Veranstaltung ohne festen Ort - Dietfurt a.d.Altmühl
SUMMARY:Themenführung   \"IN VINO VERITAS\"
DESCRIPTION:7 Länder mit Wein können uns nicht gefährlich sein ...
DTSTAMP:20260419T201348Z
END:VEVENT
END:VCALENDAR