BEGIN:VCALENDAR
VERSION:2.0
PRODID:https://www.dietfurt.de/
X-PUBLISHED-TTL:P1D
BEGIN:VEVENT
UID:69e9de788481a
DTSTART:20260822T160000Z
SEQUENCE:0
TRANSP:OPAQUE
DTEND:20260823T000000Z
URL:https://www.dietfurt.de/veranstaltungen/sommernachtsfest_sv_toeging-662
 377-12587953/
LOCATION:Sportplatz/heim Töging - Dietfurt
SUMMARY:Sommernachtsfest SV Töging
DTSTAMP:20260423T105520Z
END:VEVENT
END:VCALENDAR