BEGIN:VCALENDAR
VERSION:2.0
PRODID:https://www.dietfurt.de/
X-PUBLISHED-TTL:P1D
BEGIN:VEVENT
UID:69e50e30d3c90
DTSTART:20260425T120000Z
SEQUENCE:0
TRANSP:OPAQUE
DTEND:20260425T140000Z
URL:https://www.dietfurt.de/veranstaltungen/pflanzentauschboerse_ogv_toegi-
 660419/
LOCATION:Schloss Töging - Dietfurt
SUMMARY:Pflanzentauschbörse OGV Töging
DTSTAMP:20260419T191736Z
END:VEVENT
END:VCALENDAR