BEGIN:VCALENDAR
VERSION:2.0
PRODID:https://www.dietfurt.de/
X-PUBLISHED-TTL:P1D
BEGIN:VEVENT
UID:69e6936fa5271
DTSTART:20261206T170000Z
SEQUENCE:0
TRANSP:OPAQUE
DTEND:20261206T183000Z
URL:https://www.dietfurt.de/veranstaltungen/nikolausschiessen_fuer_die_jug-
 669001-12595169/
LOCATION:Schützenheim in der städtische Kindertagesstätte „Am Kreuzber
 g“ - Dietfurt
SUMMARY:Nikolausschießen für die Jugend
DTSTAMP:20260420T225823Z
END:VEVENT
END:VCALENDAR