BEGIN:VCALENDAR
VERSION:2.0
PRODID:https://www.dietfurt.de/
X-PUBLISHED-TTL:P1D
BEGIN:VEVENT
UID:69e59fed504b0
DTSTART;VALUE=DATE:20261205
SEQUENCE:0
TRANSP:OPAQUE
DTEND;VALUE=DATE:20261208
URL:https://www.dietfurt.de/veranstaltungen/nikolausaktion-642895/
LOCATION:- Veranstaltung ohne festen Ort - Dietfurt a.d.Altmühl
SUMMARY:Nikolausaktion
DESCRIPTION:der Kolpingsfamilie Dietfurt
X-MICROSOFT-CDO-ALLDAYEVENT:TRUE
DTSTAMP:20260420T053925Z
END:VEVENT
END:VCALENDAR