BEGIN:VCALENDAR
VERSION:2.0
PRODID:https://www.dietfurt.de/
X-PUBLISHED-TTL:P1D
BEGIN:VEVENT
UID:69ea0db50d2c6
DTSTART;VALUE=DATE:20260814
SEQUENCE:0
TRANSP:OPAQUE
DTEND;VALUE=DATE:20260814
URL:https://www.dietfurt.de/veranstaltungen/nachtschwimmen_im_7-taeler_pan-
 667357/
LOCATION:7-Täler-Panoramabad - Dietfurt
SUMMARY:Nachtschwimmen im 7-Täler Panoramabad Dietfurt
X-MICROSOFT-CDO-ALLDAYEVENT:TRUE
DTSTAMP:20260423T141653Z
END:VEVENT
END:VCALENDAR