BEGIN:VCALENDAR
VERSION:2.0
PRODID:https://www.dietfurt.de/
X-PUBLISHED-TTL:P1D
BEGIN:VEVENT
UID:69e6e6d8e3af3
DTSTART;VALUE=DATE:20260613
SEQUENCE:0
TRANSP:OPAQUE
DTEND;VALUE=DATE:20260613
URL:https://www.dietfurt.de/veranstaltungen/nachtschwimmen_im_7-taeler_pan-
 667355/
LOCATION:7-Täler-Panoramabad - Dietfurt
SUMMARY:Nachtschwimmen im 7-Täler Panoramabad Dietfurt
X-MICROSOFT-CDO-ALLDAYEVENT:TRUE
DTSTAMP:20260421T045416Z
END:VEVENT
END:VCALENDAR