BEGIN:VCALENDAR
VERSION:2.0
PRODID:https://www.dietfurt.de/
X-PUBLISHED-TTL:P1D
BEGIN:VEVENT
UID:69e4db103770f
DTSTART:20261129T090000Z
SEQUENCE:0
TRANSP:OPAQUE
DTEND:20261129T120000Z
URL:https://www.dietfurt.de/veranstaltungen/kolping_gedenktag_mitgliederve-
 642893/
LOCATION:Karl-Strehle-Pfarrheim - Dietfurt
SUMMARY:Kolping Gedenktag + Mitgliederversammlung
DTSTAMP:20260419T153928Z
END:VEVENT
END:VCALENDAR