BEGIN:VCALENDAR
VERSION:2.0
PRODID:https://www.dietfurt.de/
X-PUBLISHED-TTL:P1D
BEGIN:VEVENT
UID:69e671d6ab4af
DTSTART:20260830T120000Z
SEQUENCE:0
TRANSP:OPAQUE
DTEND:20260830T220000Z
URL:https://www.dietfurt.de/veranstaltungen/hoffest_100_jahre_gasthaus_zuc-
 806577-12681891/
LOCATION:Gasthaus Zucker - Dietfurt
SUMMARY:Hoffest 100 Jahre Gasthaus Zucker
DTSTAMP:20260420T203502Z
END:VEVENT
END:VCALENDAR