BEGIN:VCALENDAR
VERSION:2.0
PRODID:https://www.dietfurt.de/
X-PUBLISHED-TTL:P1D
BEGIN:VEVENT
UID:69e4f06875afb
DTSTART:20260715T173000Z
SEQUENCE:0
TRANSP:OPAQUE
DTEND:20260715T210000Z
URL:https://www.dietfurt.de/veranstaltungen/dietfurter_musikantenstammtisc-
 669017-12595199/
LOCATION:Hotel-Gasthof „Zum Bräu-Toni“ GmbH - Dietfurt
SUMMARY:Dietfurter Musikantenstammtisch
DESCRIPTION:Bayerische Volksmusik mit Laienspieler
DTSTAMP:20260419T171032Z
END:VEVENT
END:VCALENDAR