BEGIN:VCALENDAR
VERSION:2.0
PRODID:https://www.dietfurt.de/
X-PUBLISHED-TTL:P1D
BEGIN:VEVENT
UID:69e9f6f8baf1e
DTSTART:20260621T070000Z
SEQUENCE:0
TRANSP:OPAQUE
DTEND:20260621T150000Z
URL:https://www.dietfurt.de/veranstaltungen/bronzeguss-keltische_bronzen-65
 6611/
LOCATION:Alcmona-Erlebnisdorf - Dietfurt
SUMMARY:Bronzeguß - Keltische Bronzen
DESCRIPTION:bei Alcmona
DTSTAMP:20260423T123952Z
END:VEVENT
END:VCALENDAR