BEGIN:VCALENDAR
VERSION:2.0
PRODID:https://www.dietfurt.de/
X-PUBLISHED-TTL:P1D
BEGIN:VEVENT
UID:69e9de1632f13
DTSTART:20260423T120000Z
SEQUENCE:0
TRANSP:OPAQUE
DTEND:20260423T150000Z
URL:https://www.dietfurt.de/veranstaltungen/bauernmarkt_dietfurt-mit_regio-
 669089/
LOCATION:Innenstadt - Dietfurt
SUMMARY:Bauernmarkt Dietfurt - mit regionalen Produkten
DTSTAMP:20260423T105342Z
END:VEVENT
END:VCALENDAR